BEGIN:VCALENDAR
VERSION:2.0
PRODID:-//Tukios.com/
BEGIN:VEVENT
UID:fc920e3f-4300-4599-b4a8-f9095db5c99a@www.ericksonsmithfh.com
DTSTAMP:20260421T091235Z
DTSTART:20260219
SUMMARY:Inurnment
DESCRIPTION:
URL:https://www.ericksonsmithfh.com/obituaries/florence-anderson
LOCATION:Erdahl Cemetery 24451 County Road 5  Elbow Lake MN 56531
GEO:45.9694872;-95.7914999
END:VEVENT
END:VCALENDAR