BEGIN:VCALENDAR
VERSION:2.0
PRODID:-//Tukios.com/
BEGIN:VEVENT
UID:5cdda259-b955-47de-b439-abad229a212f@www.ericksonsmithfh.com
DTSTAMP:20260421T092651Z
DTSTART:20260219T170000Z
DTEND:20260219T180000Z
SUMMARY:Memorial Service
DESCRIPTION:
URL:https://www.ericksonsmithfh.com/obituaries/florence-anderson
LOCATION:Grace Evangelical Free Church 211 11th Ave SE  Elbow Lake MN 
	56531
GEO:45.9897346;-95.961791
END:VEVENT
END:VCALENDAR